BEGIN:VCALENDAR
VERSION:2.0
PRODID:-//Leeming SHS - ECPv4.5.13//NONSGML v1.0//EN
CALSCALE:GREGORIAN
METHOD:PUBLISH
X-WR-CALNAME:Leeming SHS
X-ORIGINAL-URL:http://www.leeming.wa.edu.au
X-WR-CALDESC:Events for Leeming SHS
BEGIN:VEVENT
DTSTART;VALUE=DATE:20180129
DTEND;VALUE=DATE:20180130
DTSTAMP:20180226T115422
CREATED:20171206T043633Z
LAST-MODIFIED:20171206T043721Z
UID:2906-1517184000-1517356799@www.leeming.wa.edu.au
SUMMARY:Pupil Free Day
DESCRIPTION:
URL:http://www.leeming.wa.edu.au/event/pupil-free-day/
END:VEVENT
BEGIN:VEVENT
DTSTART;TZID=UTC+0:20180129T083000
DTEND;TZID=UTC+0:20180129T150000
DTSTAMP:20180226T115422
CREATED:20170906T035120Z
LAST-MODIFIED:20170906T035120Z
UID:1788-1517214600-1517238000@www.leeming.wa.edu.au
SUMMARY:Uniform Shop Open
DESCRIPTION:
URL:http://www.leeming.wa.edu.au/event/uniform-shop-open-4/
LOCATION:Aulberry Parade\, Leeming\, Western Australia\, 6149\, Australia
END:VEVENT
BEGIN:VEVENT
DTSTART;VALUE=DATE:20180131
DTEND;VALUE=DATE:20180131
DTSTAMP:20180226T115422
CREATED:20171206T043856Z
LAST-MODIFIED:20180130T050139Z
UID:2909-1517356800-1517443199@www.leeming.wa.edu.au
SUMMARY:Students Resume
DESCRIPTION:Year 7 students please make your way to the Sunken Garden at 8.15 am or make your way directly to the Leeming Recreation Centre. Make sure you are there by 8.25 am. Year 8-12 students\, please make your way directly to the Leeming Recreation Centre ready to start at 8.30. All students will receive their timetables and will then be able to go to their classrooms. \n
URL:http://www.leeming.wa.edu.au/event/students-commence/
END:VEVENT
BEGIN:VEVENT
DTSTART;TZID=UTC+0:20180131T080000
DTEND;TZID=UTC+0:20180131T134500
DTSTAMP:20180226T115422
CREATED:20170906T035228Z
LAST-MODIFIED:20170906T035228Z
UID:1792-1517385600-1517406300@www.leeming.wa.edu.au
SUMMARY:Uniform Shop Open
DESCRIPTION:
URL:http://www.leeming.wa.edu.au/event/uniform-shop-open-6/
LOCATION:Aulberry Parade\, Leeming\, Western Australia\, 6149\, Australia
END:VEVENT
BEGIN:VEVENT
DTSTART;VALUE=DATE:20180201
DTEND;VALUE=DATE:20180201
DTSTAMP:20180226T115422
CREATED:20180131T100247Z
LAST-MODIFIED:20180131T100247Z
UID:3183-1517443200-1517529599@www.leeming.wa.edu.au
SUMMARY:Year 7 Students Meet at Sunken Garden
DESCRIPTION:Year 7 Students please be at the Sunken Garden by 8.30 with your timetable ready to meet period 1 teachers. \n
URL:http://www.leeming.wa.edu.au/event/year-7-students-meet-sunken-garden/
LOCATION:Aulberry Parade\, Leeming\, Western Australia\, 6149\, Australia
END:VEVENT
BEGIN:VEVENT
DTSTART;TZID=UTC+0:20180205T180000
DTEND;TZID=UTC+0:20180205T190000
DTSTAMP:20180226T115422
CREATED:20171206T043934Z
LAST-MODIFIED:20180124T013014Z
UID:2911-1517853600-1517857200@www.leeming.wa.edu.au
SUMMARY:Year 12 Parent Info Evening
DESCRIPTION:
URL:http://www.leeming.wa.edu.au/event/year-12-parent-info-evening/
LOCATION:Aulberry Parade\, Leeming\, Western Austalia\, 6149\, Australia
END:VEVENT
BEGIN:VEVENT
DTSTART;TZID=UTC+0:20180207T180000
DTEND;TZID=UTC+0:20180207T190000
DTSTAMP:20180226T115422
CREATED:20171206T044734Z
LAST-MODIFIED:20180124T081509Z
UID:2913-1518026400-1518030000@www.leeming.wa.edu.au
SUMMARY:Year 7 Parent Information Night
DESCRIPTION:
URL:http://www.leeming.wa.edu.au/event/year-7-parent-info-night/
END:VEVENT
BEGIN:VEVENT
DTSTART;TZID=UTC+0:20180207T190000
DTEND;TZID=UTC+0:20180207T203000
DTSTAMP:20180226T115422
CREATED:20171206T044825Z
LAST-MODIFIED:20180201T044746Z
UID:2915-1518030000-1518035400@www.leeming.wa.edu.au
SUMMARY:Cyber Safety Session
DESCRIPTION:
URL:http://www.leeming.wa.edu.au/event/cyber-safety-session/
LOCATION:Aulberry Parade\, Leeming\, Western Austalia\, 6149\, Australia
END:VEVENT
BEGIN:VEVENT
DTSTART;TZID=UTC+0:20180212T180000
DTEND;TZID=UTC+0:20180212T190000
DTSTAMP:20180226T115422
CREATED:20171206T044910Z
LAST-MODIFIED:20180124T013057Z
UID:2917-1518458400-1518462000@www.leeming.wa.edu.au
SUMMARY:Year 11 Parent Info Evening
DESCRIPTION:
URL:http://www.leeming.wa.edu.au/event/year-11-parent-info-evening/
LOCATION:Aulberry Parade\, Leeming\, Western Austalia\, 6149\, Australia
END:VEVENT
BEGIN:VEVENT
DTSTART;TZID=UTC+0:20180214T170000
DTEND;TZID=UTC+0:20180214T174500
DTSTAMP:20180226T115422
CREATED:20180124T080532Z
LAST-MODIFIED:20180124T080532Z
UID:3169-1518627600-1518630300@www.leeming.wa.edu.au
SUMMARY:Specialist Program Parent Information Evening
DESCRIPTION:
URL:http://www.leeming.wa.edu.au/event/specialist-program-parent-information-evening/
LOCATION:Aulberry Parade\, Leeming\, Western Austalia\, 6149\, Australia
END:VEVENT
BEGIN:VEVENT
DTSTART;TZID=UTC+0:20180214T193000
DTEND;TZID=UTC+0:20180214T210000
DTSTAMP:20180226T115422
CREATED:20171206T044945Z
LAST-MODIFIED:20171206T044945Z
UID:2919-1518636600-1518642000@www.leeming.wa.edu.au
SUMMARY:P&C Meeting
DESCRIPTION:
URL:http://www.leeming.wa.edu.au/event/pc-meeting-3/
END:VEVENT
BEGIN:VEVENT
DTSTART;TZID=UTC+0:20180219T180000
DTEND;TZID=UTC+0:20180219T190000
DTSTAMP:20180226T115422
CREATED:20171206T045015Z
LAST-MODIFIED:20180124T080822Z
UID:2921-1519063200-1519066800@www.leeming.wa.edu.au
SUMMARY:Year 10 Parent Information Evening
DESCRIPTION:
URL:http://www.leeming.wa.edu.au/event/year-10-parent-info-evening/
LOCATION:Aulberry Parade\, Leeming\, Western Austalia\, 6149\, Australia
END:VEVENT
BEGIN:VEVENT
DTSTART;VALUE=DATE:20180221
DTEND;VALUE=DATE:20180221
DTSTAMP:20180226T115422
CREATED:20180207T011619Z
LAST-MODIFIED:20180207T011645Z
UID:3190-1519171200-1519257599@www.leeming.wa.edu.au
SUMMARY:School Photo Day Year 7 to Year 11
DESCRIPTION:
URL:http://www.leeming.wa.edu.au/event/school-photo-day-year-7-year-11/
END:VEVENT
BEGIN:VEVENT
DTSTART;TZID=UTC+0:20180221T111000
DTEND;TZID=UTC+0:20180221T121500
DTSTAMP:20180226T115422
CREATED:20171206T045121Z
LAST-MODIFIED:20180207T011527Z
UID:2923-1519211400-1519215300@www.leeming.wa.edu.au
SUMMARY:Whole School Assembly
DESCRIPTION:
URL:http://www.leeming.wa.edu.au/event/whole-school-assembly-2/
END:VEVENT
BEGIN:VEVENT
DTSTART;TZID=UTC+0:20180223T190000
DTEND;TZID=UTC+0:20180223T233000
DTSTAMP:20180226T115422
CREATED:20171206T045320Z
LAST-MODIFIED:20171206T045320Z
UID:2925-1519412400-1519428600@www.leeming.wa.edu.au
SUMMARY:School Ball
DESCRIPTION:
URL:http://www.leeming.wa.edu.au/event/school-ball/
LOCATION:151 Marine Terrace\, Fremantle\, Western Australia\, 6009\, Australia
END:VEVENT
BEGIN:VEVENT
DTSTART;TZID=UTC+0:20180227T083000
DTEND;TZID=UTC+0:20180227T145000
DTSTAMP:20180226T115422
CREATED:20171206T045359Z
LAST-MODIFIED:20171206T045718Z
UID:2929-1519720200-1519743000@www.leeming.wa.edu.au
SUMMARY:House Swimming Carnival
DESCRIPTION:
URL:http://www.leeming.wa.edu.au/event/house-swimming-carnival/
END:VEVENT
BEGIN:VEVENT
DTSTART;VALUE=DATE:20180301
DTEND;VALUE=DATE:20180301
DTSTAMP:20180226T115422
CREATED:20171206T045741Z
LAST-MODIFIED:20171206T045741Z
UID:2931-1519862400-1519948799@www.leeming.wa.edu.au
SUMMARY:Year 8 Vaccinations
DESCRIPTION:
URL:http://www.leeming.wa.edu.au/event/year-8-vaccinations/
END:VEVENT
BEGIN:VEVENT
DTSTART;VALUE=DATE:20180301
DTEND;VALUE=DATE:20180301
DTSTAMP:20180226T115422
CREATED:20180207T011801Z
LAST-MODIFIED:20180207T012411Z
UID:3194-1519862400-1519948799@www.leeming.wa.edu.au
SUMMARY:School Photos Year 12
DESCRIPTION:
URL:http://www.leeming.wa.edu.au/event/school-photos-year-12/
END:VEVENT
BEGIN:VEVENT
DTSTART;VALUE=DATE:20180301
DTEND;VALUE=DATE:20180301
DTSTAMP:20180226T115422
CREATED:20180207T011847Z
LAST-MODIFIED:20180207T011847Z
UID:3196-1519862400-1519948799@www.leeming.wa.edu.au
SUMMARY:Catch Up Photo Day Year 7-11
DESCRIPTION:
URL:http://www.leeming.wa.edu.au/event/catch-photo-day-year-7-11/
END:VEVENT
END:VCALENDAR